BEGIN:VCALENDAR
VERSION:2.0
PRODID:-//ScrumDesk | Agile, Scrum, SAFe zmysluplne - ECPv5.13.0//NONSGML v1.0//EN
CALSCALE:GREGORIAN
METHOD:PUBLISH
X-WR-CALNAME:ScrumDesk | Agile, Scrum, SAFe zmysluplne
X-ORIGINAL-URL:https://scrum.sk/en/
X-WR-CALDESC:Events for ScrumDesk | Agile, Scrum, SAFe zmysluplne
BEGIN:VTIMEZONE
TZID:Europe/Bratislava
BEGIN:DAYLIGHT
TZOFFSETFROM:+0100
TZOFFSETTO:+0200
TZNAME:CEST
DTSTART:20240331T010000
END:DAYLIGHT
BEGIN:STANDARD
TZOFFSETFROM:+0200
TZOFFSETTO:+0100
TZNAME:CET
DTSTART:20241027T010000
END:STANDARD
END:VTIMEZONE
BEGIN:VEVENT
DTSTART;TZID=Europe/Bratislava:20240320T090000
DTEND;TZID=Europe/Bratislava:20240321T130000
DTSTAMP:20260425T175614
CREATED:20240213T144928Z
LAST-MODIFIED:20240318T132623Z
UID:31051-1710925200-1711026000@scrum.sk
SUMMARY:Training Scrum Mastership meaningfully - March 2024
DESCRIPTION:In addition to the basic agile principles\, a Scrum Master should have a very good understanding of the theory of constraints\, implementing change in organizations\, and the principles of how teams form\, function\, and motivate. \n\n\n\nThe course will help you prepare your organization for the transition to agile processes. It is complemented by the Certified Scrum Master certification course. It is recommended for Scrum Masters who feel they also need to move into soft-skill areas and gain hands-on experience. \n\n\n\n\n\n\n\n\nI am interested\n\n\n\n\n\n\n\n\n\n\nFor whom\n\n\n\n\n\nProduct and project management\, middle management\, Scrum Masters\, team leaders\, product owners. \n\n\n\n\n\n\n\nWhen and how\n\n\n\n\n\n20 March 2024  9:00-17:0021 March 2024 9:00-13:00OnlineLanguage: Slovak  \n\n\n\n\n\n\n\nTraining objectives\n\n\n\n \n\n\n\n\nFundamentals of adaptive iterative product development\,\n\n\n\nAgile principles\,\n\n\n\nPrinciples of the Scrum management method\,\n\n\n\nHow Lean principles affect agile teams\,\n\n\n\nBasic responsibilities of a Scrum Master\,\n\n\n\nHow to divide responsibilities between Scrum Master\, Product Owner\, Project Manager and Line Manager\,\n\n\n\nHow to support self-organised agile teams\,\n\n\n\nHow to prepare product backlog\, kanban board and change board\,\n\n\n\nHow to set up basic agile metrics and where to get data for them\,\n\n\n\nHow to collaborate with other Scrum Masters\,\n\n\n\nHow to make the perfect daily standup\,\n\n\n\nRetrospective.\n\n\n\n\nThere are dozens of real-life stories from agile teams and plenty of aha moments. \n\n\n\n\n\nAgenda\n\n\n\n\nScrum Master and his duties\,\n\n\n\nScrum ceremonies that the Scrum Master supports\,\n\n\n\nScrum Master’s relationship with team members and his/her surroundings\,\n\n\n\nWhat characteristics a good Scrum Master should have\,\n\n\n\nThe anti-pattern\, what kind of Scrum Master not to be\n\n\n\nGood Kanban board\,\n\n\n\nHow to scale agile teams\, from small team to multiple teams\,\n\n\n\nBasic soft-skills of a Scrum Master\,\n\n\n\nCooperation with the Product Owner\,\n\n\n\nCooperation with other Scrum Masters\,\n\n\n\nPreparation of release and sprint plans\,\n\n\n\nDaily standup well\,\n\n\n\nEvaluation of metrics\,\n\n\n\nRetrospective in x ways\, demonstration of different retrospective techniques\,\n\n\n\nLearn about the successes and mistakes of others through case studies\,\n\n\n\nWe will teach you how to use the tools that should not be missing in the Scrum Master’s ‘briefcase’.\n\n\n\n\n\n\n\n\nPrice\n\n\n\n\n\n\nOne participant: 330 euros excluding VAT.\n\n\n\n3-4 participants: 10% DISCOUNT excluding VAT/participant.\n\n\n\n5 or more: DISCOUNT 15% excluding VAT/participant.\n\n\n\n\n\nFor registration until 19. January DISCOUNT 10 %  excluding VAT \n\n\n\nFor registration until 19. February DISCOUNT 5 %  excluding VAT.\n\n\n\nDiscounts do not add up.\n\n\n\n\n\n\n\n\nWhat you get\n\n\n\n\n\n\nAccess to training materials.\n\n\n\nRecommending valuable books\, articles and videos.\n\n\n\nExamples from real practice not only of Slovak companies.\n\n\n\nCertificate of training completion.\n\n\n\nOnline 1 hour free consultation after the training.\n\n\n\n10% discount on other trainings\, Scrum Mastery Academies and competency assessments from ScrumDesk.\n\n\n\n\n\n\n\n\nMentor\n\n\n\n\n\n\nRoman Pieron\n\n\n\nAgile Mentor and Consultant\, ScrumDesk \n\n\n\n\n  \n\n\n\nRoman has experience as a Product Owner and Scrum Master in several distributed teams in international companies. \n\n\n\n\n\nAre you interested in this course?\n\n\n\nWe will contact each of you personally to arrange the details.The training capacity is limited.  \n\n\n\n\n  \n\n\n\n\n\n\n\n\n\n\n\n	\n	\n	\n		\n			\n			 \n		\n	\n	\n		\n			\n			 \n		\n	\n\n\n	\n	 \n\n\n	\n	 \n\n\n	\n	 \n\n\n	Súhlasím so zásadami ochrany osobných údajov
URL:https://scrum.sk/en/public-training/scrum-mastery-training-in-a-meaningful-way-march-2024/
ATTACH;FMTTYPE=image/png:https://scrum.sk/wp-content/uploads/2024/02/SM_PubT-Blog-Thumb-v2-1.png
END:VEVENT
END:VCALENDAR